



BEGIN:VCALENDAR
VERSION:2.0
PRODID:-//wp-events-plugin.com//5.973//EN
TZID:Europe/Bratislava
X-WR-TIMEZONE:Europe/Bratislava
BEGIN:VEVENT
UID:385@yogahouse.sk
DTSTART;TZID=Europe/Bratislava:20260510T180000
DTEND;TZID=Europe/Bratislava:20260510T200000
DTSTAMP:20260331T115035Z
URL:https://www.yogahouse.sk/events/alchymia-osobneho-parfemu/
SUMMARY:Alchýmia osobného parfému
DESCRIPTION:[cmsms_row][cmsms_column data_width="1/1"][cmsms_text]&nbsp\;Wo
 rkshop prírodnej aromaterapieVôňa je najrýchlejšia cesta k sebe. Jede
 n závan a si inde — v spomienke\, v pocite\, v priestore ktorý si zabu
 dla pomenovať. V Herbarium Projekte veríme\, že každá chvíľa a kaž
 dý človek má svoju vôňu. Tento večer ti ju pomôžeme nájsť.Spolo
 čne s Yoga House vás pozývame na kreatívny workshop\, kde sa zo zákla
 dov bezpečnej aromaterapie prepracuješ až k vlastnoručne namiešanému
  100 % prírodnému parfému —  presne podľa tvojich zmyslov.Čo ťa 
 čaká: Prejdeme si základy práce s vôňami a bezpečnej aromaterapie. 
 Budeme pracovať s BIO esenciálnymi olejmi VONIAVA a organickými rastlin
 nými olejmi — suroviny\, za ktorých pôvod a kvalitu ručíme. Každý
  účastník si odnesie svoj jedinečný parfém v 10 ml sklenenom roll-on
 e.Nemusíš vedieť nič o vôňach. Pracujeme so špeciálne navrhnutými
  vizuálnymi pomôckami\, ktoré ťa celým procesom prevedú. Workshop je
  otvorený pre všetkých — rovnako pre tých\, čo s aromaterapiou zač
 ínajú\, ako pre tých\, čo ju už roky milujú.Viac o lektorke:https://
 herbariumprojekt.sk/o-projekte/par-slov-k-jednemu-zivotu-bylinkovemu/https
 ://herbariumprojekt.sk/o-projekte/====KDE: YOGA HOUSE BRATISLAVADÁTUM: 10
 . mája 2026KEDY: NedeľaČAS: 18:00 – 20:00CENA: 45 EurLEKTORKA: Veroni
 ka Repková==== [/cmsms_text][/cmsms_column][/cmsms_row][cmsms_row data_w
 idth="boxed" data_padding_left="3" data_padding_right="3" data_color="defa
 ult" data_bg_color="#ffffff" data_bg_position="top center" data_bg_repeat=
 "no-repeat" data_bg_attachment="scroll" data_bg_size="cover" data_bg_paral
 lax_ratio="0.5" data_color_overlay="#000000" data_overlay_opacity="50" dat
 a_padding_top="0" data_padding_bottom="50"][cmsms_column data_width="1/1"]
 [cmsms_button button_link="https://calendiari.com/event/S2fJdn16qk" button
 _target="self" button_text_align="left" button_font_weight="100" button_fo
 nt_style="normal" button_padding_hor="20" button_bg_color="#707070" button
 _text_color="#ffffff" button_bg_color_h="#aed957" animation_delay="0"]Regi
 strácia[/cmsms_button][/cmsms_column][/cmsms_row][cmsms_row data_width="b
 oxed" data_padding_left="3" data_padding_right="3" data_color="default" da
 ta_bg_color="#ffffff" data_bg_position="top center" data_bg_repeat="no-rep
 eat" data_bg_attachment="scroll" data_bg_size="cover" data_bg_parallax_rat
 io="0.5" data_color_overlay="#000000" data_overlay_opacity="50" data_paddi
 ng_top="0" data_padding_bottom="50"][cmsms_column data_width="1/1"][cmsms_
 gallery layout="gallery" image_size_gallery="full" gallery_columns="1" gal
 lery_links="lightbox" animation_delay="0"]36765|https://www.yogahouse.sk/w
 p-content/uploads/2026/03/workshop_detail_flakon-kadička-olej-150x150.png
 \,36763|https://www.yogahouse.sk/wp-content/uploads/2026/03/workshop-na-ze
 mi-v-kruhu_sala-150x150.png\,36764|https://www.yogahouse.sk/wp-content/upl
 oads/2026/03/workshop_-sedenie-v-kruhu-150x150.png\,36770|https://www.yoga
 house.sk/wp-content/uploads/2026/03/workshop_parfem-hotovy-vyrobeny-1-150x
 150.png\,36766|https://www.yogahouse.sk/wp-content/uploads/2026/03/worksho
 p_firma-150x150.png\,36769|https://www.yogahouse.sk/wp-content/uploads/202
 6/03/workshop_na-zemi-150x150.png[/cmsms_gallery][/cmsms_column][/cmsms_ro
 w]
ATTACH;FMTTYPE=image/jpeg:https://www.yogahouse.sk/wp-content/uploads/2026
 /03/workshop_muži.png
CATEGORIES:Workshopy
END:VEVENT
BEGIN:VTIMEZONE
TZID:Europe/Bratislava
X-LIC-LOCATION:Europe/Bratislava
BEGIN:DAYLIGHT
DTSTART:20260329T030000
TZOFFSETFROM:+0100
TZOFFSETTO:+0200
TZNAME:CEST
END:DAYLIGHT
END:VTIMEZONE
END:VCALENDAR