



BEGIN:VCALENDAR
VERSION:2.0
PRODID:-//wp-events-plugin.com//5.973//EN
TZID:Europe/Bratislava
X-WR-TIMEZONE:Europe/Bratislava
BEGIN:VEVENT
UID:384@yogahouse.sk
DTSTART;TZID=Europe/Bratislava:20260426T100000
DTEND;TZID=Europe/Bratislava:20260426T120000
DTSTAMP:20260413T065830Z
URL:https://www.yogahouse.sk/events/joga-v-palfyho-palaci/
SUMMARY:Joga v Pálffyho paláci
DESCRIPTION:[cmsms_row][cmsms_column data_width="1/1"][cmsms_text]&nbsp\;Id
 eme ako inak opäť v štýle a galériu vymeníme za palác s historický
 m nádychom z roku 1953. Zamierime si to na Zámockú ulicu\, rovno pod hr
 ad. Áno\, do krásneho Pálffyho paláca. Už si tam bol*a? Ak nie máš 
 dokonalú príležitosť nechať sa očariť národnou kultúrnou pamiatko
 u a jej nezameniteľnou atmosférou\, fantastickou akustikou a historický
 mi priestormi\, ktoré sú pozostatkami časti paláca rodu Pálffyovcov.&
 nbsp\;Po paláci Ťa budú sprevádzať dvaja šarmantní muži! Šarmantn
 ý jogín Erik Goldschmidt a unikátny skúsený muzikant\, hudobný produ
 cent Dalibor Kocián aka Stroon s nástrojom magického zvuku - vibrafóno
 m.  Stroon je multižánrový hudobník a producent a je nám cťou\, že
  v Pálffyho paláci bude Erikovu jogu sprevádzať cez súčasný sound\,
  ktorý je postavený na vibrafóne a jeho svojskej eletronike.&nbsp\;Spra
 víme si zaujímavé a netradičné nedeľné ráno a uzavrieme ho bruncho
 m opäť od Kristíny Maštalírovej\, ktorej vegánske jedlo bolo posledn
 e v Nedbalke skutočne luxusné a nesmierne chutné. Tá tvorí jedlo tak 
 zázračne a láskavo…&nbsp\;Darčeky od našich obľúbených love bran
 ds sú neoddeliteľnou milou súčasťou nášho eventu a budú vás teši
 ť aj v paláci.&nbsp\;Tento projekt nám robí nesmiernu radosť. Pridaj 
 sa a zaži ju s nami.&nbsp\;&nbsp\;K dispozícii budú jogamatky aj všetk
 y pomôcky.&nbsp\;VIAC O PROJEKTEKaždý mesiac iné miesto\, iný hudobn
 ík\, iný nástroj\, jedinečná atmosféra. V priestoroch nášho Staré
 ho Mesta. Vždy trošku netradične. Vždy s malým prekvapením – darč
 ekom od lokálnych love-brand tvorcov.Inšpiratívne miesto\, lahodne znej
 úca živá hudba\, uvoľňujúca joga. Tri prvky\, ktoré prebúdzajú vi
 talitu a nádej počas zvnútorňujúcej zimy. Tvorivosť vnáša do náš
 ho sveta pestrý pocit živosti. Živosť je zdravie\, radosť a expanzia.
 Pridaj sa k nám.====KDE: Pálffyho palác\, Zámocká 47DÁTUM: 26. aprí
 la 2026KEDY: NedeľaČAS: 10:00 – 12:00CENA: 40 EurLEKTOR: Erik Goldschm
 idtHUDBA: Dalibor Kocián / Stroon====  ERIK GOLDSCHMIDTDALIBOR KOCIÁN 
 / STROON&nbsp\;Stroon je pulzujúcim elementom na slovenskej hudobnej scé
 ne už viac ako dekádu. Nielen vďaka vibrafónu\, ktorý je jeho hlavný
 m nástrojom\, ale aj vďaka škále projektov a spoluprác\, v ktorých n
 echáva svoj rukopis. Zasnenosť\, kontemplácia\, snaha o beztiažovosť\
 , konceptualita-to všetko sú idey v jeho hudbe. Modalita\, rytmické št
 ruktúry\, minimalizmus\, skreslenie\, synthové plochy aproto-melodika–
 to všetko je jeho hudba sama. Jeho živé hrania ale aj produkcia sú šp
 ecifickyvytvárané podľa miesta\, času\, obecenstva i daného projektu 
 čoho výsledkom je zmes elektro-akustických kompozícií ktoré majú sn
 ahu objavovať nové horizonty a sprostredkovať imerzívny zážitok.&nbs
 p\;Krása\, vypočuj.https://www.tedxbratislava.sk/video/stroon-stix-vizua
 lne-hudobne-dielo-visual-music-duo/https://youtu.be/VOgCz2jHMnE?si=3fviIEp
 8M3htKabA&nbsp\;Stroon na seba upozornil v roku 2010 debutom Ruine Noire\,
  ktoré si vyslúžilo veľmi pozitívne ohlasy. Odvtedy takmer každý ro
 k prináša správu o svojom momentálnom hudobnom smerovaní.Skoršie alb
 umy pre neho znamenali objavovanie vlastného “elektronického” jazyka
 \, ku ktorému postupne pripájal vibrafón. Ten na albume Solar Preludes 
 spojil s metalovou gitarou. Neskôr svoju charakteristickú elektroniku za
 čal prepájať viac s vážnou hudbou: napr. na Songs of Concealed Amplit
 ude a Meditations on Dichotomy s ansámblom a sopránom\, na Überhormones
  so speváckym zborom. Nazretie do čias staršej elektronickej hudby (Jar
 re\, Oldfield) v symbióze s vibrafónompriniesol album Temple Timbre Embe
 rs. Ostatný album Metal Bubble Memories prináša jeho predstavu filmovej
  hudby. Silným momentom roka 2024 bola pre Stroona spolupráca so Slávou
  Daubnerovou na predstavení Die Troerinnen v Landestheater Sankt Pölten 
 kde pripravujú aj ďalšiuinscenáciu v roku 2025.Veľkú časť jeho tvo
 rby predstavuje hudba pre divadelné predstavenia (Die Troerinnen\, Shift\
 ,Folklore not War)\, tanečné divadlo (Priviazaní na kôl okamihu\, Od z
 eme) filmy (Good Old Czechs\,Válečné Zpravodaj)\, seriály a krátke fi
 lmy (Ikony\, Kraj\, Výtvarná rozcvička\, Empty Spaces)\, neméfilmy (Ex
 táza\, Metropolis) či site-specific vystúpenia (Biela Noc\, SNG)\, even
 ty (Eset Science Award\, CNTBU) a reklamy. Za posledných desať rokov odo
 hral množstvo koncertov na Slovensku aj v zahraničí (Open'er\, Lunchmea
 t\, BAM festival\, Waves\, BUSH\, Konvergencie\, VIVA musica\,Pohoda...)&n
 bsp\;Links:www.stroonmusic.nethttps://www.instagram.com/stroonn/www.stroon
 .bandcamp.comhttps://tinyurl.com/yd58mbl7–Youtube channelhttps://vimeo.c
 om/stroon [/cmsms_text][/cmsms_column][/cmsms_row][cmsms_row data_padding
 _bottom="50" data_padding_top="0" data_overlay_opacity="50" data_color_ove
 rlay="#000000" data_bg_parallax_ratio="0.5" data_bg_size="cover" data_bg_a
 ttachment="scroll" data_bg_repeat="no-repeat" data_bg_position="top center
 " data_bg_color="#ffffff" data_color="default" data_padding_right="3" data
 _padding_left="3" data_width="boxed"][cmsms_column data_width="1/1"][cmsms
 _button button_link="https://calendiari.com/event/YPFShfWQbU" button_targe
 t="self" button_text_align="left" button_font_weight="100" button_font_sty
 le="normal" button_padding_hor="20" button_bg_color="#707070" button_text_
 color="#ffffff" button_bg_color_h="#aed957" animation_delay="0"]Registrác
 ia[/cmsms_button][/cmsms_column][/cmsms_row][cmsms_row data_padding_bottom
 ="50" data_padding_top="0" data_overlay_opacity="50" data_color_overlay="#
 000000" data_bg_parallax_ratio="0.5" data_bg_size="cover" data_bg_attachme
 nt="scroll" data_bg_repeat="no-repeat" data_bg_position="top center" data_
 bg_color="#ffffff" data_color="default" data_padding_right="3" data_paddin
 g_left="3" data_width="boxed"][cmsms_column data_width="1/1"][cmsms_galler
 y layout="gallery" image_size_gallery="full" gallery_columns="1" gallery_l
 inks="lightbox" animation_delay="0"]36759|https://www.yogahouse.sk/wp-cont
 ent/uploads/2026/03/IC3A5770-150x150.jpg\,36758|https://www.yogahouse.sk/w
 p-content/uploads/2026/03/IC3A5931-150x150.jpg\,36757|https://www.yogahous
 e.sk/wp-content/uploads/2026/03/IC3A5818-150x150.jpg\,36755|https://www.yo
 gahouse.sk/wp-content/uploads/2026/03/IC3A5801-150x150.jpg\,36754|https://
 www.yogahouse.sk/wp-content/uploads/2026/03/IC3A5883-150x150.jpg[/cmsms_ga
 llery][/cmsms_column][/cmsms_row]
ATTACH;FMTTYPE=image/jpeg:https://www.yogahouse.sk/wp-content/uploads/2026
 /03/IC3A5816.jpg
CATEGORIES:Workshopy
END:VEVENT
BEGIN:VTIMEZONE
TZID:Europe/Bratislava
X-LIC-LOCATION:Europe/Bratislava
BEGIN:DAYLIGHT
DTSTART:20260329T030000
TZOFFSETFROM:+0100
TZOFFSETTO:+0200
TZNAME:CEST
END:DAYLIGHT
END:VTIMEZONE
END:VCALENDAR